BEGIN:VCALENDAR
VERSION:2.0
PRODID:-//Library Market//iCal Export//EN
BEGIN:VEVENT
SUMMARY:Biblioteca Móvil | El Mercado de Agricultores de la calle State
UID:29219
DTSTAMP:20260422T013500Z
DTSTART:20260616T230000Z
DTEND:20260617T013000Z
LOCATION:Farmers Market, State St and Canon Perdido, Santa Barbara, CA 931
 01, Estados Unidos
ROOM: In the Community
DESCRIPTION:La Biblioteca Móvil estará justo en la entrada del Mercado d
 e Agricultores, entre las calles State y Canon Perdido, con muchísimos li
 bros para todas las edades. ¡Llévate prestados una buena cantidad de lib
 ros, obtén tu tarjeta de la biblioteca, devuelve materiales o simplemente
  pasa a saludarnos!Exención de responsabilidad:Los participantes de este 
 evento posiblemente serán fotografiados por el personal de la Biblioteca.
  Estas fotos posiblemente serán usadas en publicaciones promocionales o e
 ducacionales. En las que se incluyen publicaciones impresas, redes sociale
 s y presentaciones. Déjale saber al personal de la Biblioteca si no das c
 onsentimiento para que te tomen fotos. El personal proporcionará autoriza
 ciones fotográficas individuales.En caso de inclemencias del tiempo, las 
 actividades al aire libre se podrán cancelar. Si tienes alguna pregunta o
  inquietud acerca de un evento, contacta la biblioteca antes de asistir a 
 ellos, también puedes contactar la biblioteca para obtener información a
 ctualizada.
URL:https://calendar.library.santabarbaraca.gov/es/event/biblioteca-movil-
 el-mercado-de-agricultores-de-la-calle-state-29219
END:VEVENT
END:VCALENDAR
