BEGIN:VCALENDAR
VERSION:2.0
PRODID:-//Library Market//iCal Export//EN
BEGIN:VEVENT
SUMMARY:Biblioteca MÃ³vil | Festival del DÃ­a de la Tierra
UID:29227
DTSTAMP:20260422T085200Z
DTSTART:20260426T180000Z
DTEND:20260427T000000Z
LOCATION:Alameda Park, 1400 Santa Barbara Street, Santa Barbara, CA 93101,
  Estados Unidos
ROOM: Alameda Park
DESCRIPTION:Â¡AcompaÃ±a a la Biblioteca MÃ³vil en el Festival del DÃ­a de 
 la Tierra de Santa BÃ¡rbara! Celebra la sostenibilidad, la comunidad y la 
 acciÃ³n climÃ¡tica durante un fin de semana lleno de mÃºsica en vivo, una 
 zona de comida basada en plantas, vendedores ecolÃ³gicos, actividades educ
 ativas, organizaciones sin fines de lucro Â¡y la exhibiciÃ³n de autos ecol
 Ã³gicos mÃ¡s grande de la Costa Oeste!Pasa por la Biblioteca MÃ³vil en el 
 Parque Alameda para que disfrutes de juegos al aire libre, explores libros
  para todas las edades, descubre los prÃ³ximos eventos de la biblioteca y 
 explora las colecciones digitales de la Biblioteca PÃºblica de Santa BÃ¡rb
 ara.Nos encontrarÃ¡s cerca de la calle Sola, entre las calles Anacapa y Sa
 nta BÃ¡rbara. Â¡AllÃ­ te esperamos!Visita el sitio web del Festival del DÃ
 ­a de la Tierra de Santa BÃ¡rbara para obtener mÃ¡s informaciÃ³n.ExenciÃ³n
  de responsabilidad:Los participantes de este evento posiblemente serÃ¡n f
 otografiados por el personal de la Biblioteca. Estas fotos posiblemente se
 rÃ¡n usadas en publicaciones promocionales o educacionales. En las que se 
 incluyen publicaciones impresas, redes sociales y presentaciones. DÃ©jale 
 saber al personal de la Biblioteca si no das consentimiento para que te to
 men fotos. El personal proporcionarÃ¡ autorizaciones fotogrÃ¡ficas individ
 uales.En caso de inclemencias del tiempo, las actividades al aire libre se
  podrÃ¡n cancelar. Si tienes alguna pregunta o inquietud acerca de un even
 to, contacta la biblioteca antes de asistir a ellos, tambiÃ©n puedes conta
 ctar la biblioteca para obtener informaciÃ³n actualizada.
URL:https://calendar.library.santabarbaraca.gov/es/event/biblioteca-movil-
 festival-del-dia-de-la-tierra-29227
END:VEVENT
END:VCALENDAR
