BEGIN:VCALENDAR
VERSION:2.0
PRODID:-//Library Market//iCal Export//EN
BEGIN:VEVENT
SUMMARY:Biblioteca Móvil | Coronel Center
UID:29230
DTSTAMP:20260422T065100Z
DTSTART:20260521T213000Z
DTEND:20260521T233000Z
LOCATION:Coronel Head Start Center, 629 Coronel Place, Santa Barbara, CA 9
 3101, Estados Unidos
ROOM: In the Community
DESCRIPTION:La Biblioteca Móvil estará en el Coronel Center con muchísi
 mos libros para todas las edades. ¡Llévate prestados una buena cantidad 
 de libros, obtén tu tarjeta de la biblioteca, devuelve materiales o simpl
 emente pasa a saludarnos!Exención de responsabilidad:Los participantes de
  este evento posiblemente serán fotografiados por el personal de la Bibli
 oteca. Estas fotos posiblemente serán usadas en publicaciones promocional
 es o educacionales. En las que se incluyen publicaciones impresas, redes s
 ociales y presentaciones. Déjale saber al personal de la Biblioteca si no
  das consentimiento para que te tomen fotos. El personal proporcionará au
 torizaciones fotográficas individuales.En caso de inclemencias del tiempo
 , las actividades al aire libre se podrán cancelar. Si tienes alguna preg
 unta o inquietud acerca de un evento, contacta la biblioteca antes de asis
 tir a ellos, también puedes contactar la biblioteca para obtener informac
 ión actualizada.
URL:https://calendar.library.santabarbaraca.gov/es/event/biblioteca-movil-
 coronel-center-29230
END:VEVENT
END:VCALENDAR
