BEGIN:VCALENDAR
VERSION:2.0
PRODID:-//Library Market//iCal Export//EN
BEGIN:VEVENT
SUMMARY:Biblioteca Móvil | Pilgrim Terrace
UID:29231
DTSTAMP:20260422T144100Z
DTSTART:20260506T173000Z
DTEND:20260506T183000Z
LOCATION:Pilgrim Terrace, 649 Pilgrim Terrace Drive, Santa Barbara, CA 931
 01, Estados Unidos
ROOM: In the Community
DESCRIPTION:¡La Biblioteca Móvil llega Pilgrim Terrace!Tendremos una gra
 n selección de materiales para adultos, incluyendo libros en letra grande
 , ficción, no ficción y libros en español. Ven y obtén una tarjeta de 
 biblioteca, saca o devuelve libros prestados, infórmate sobre los eventos
  y programas de la biblioteca o aprende cómo acceder a las colecciones di
 gitales que la biblioteca tiene para ofrecer. ¡Nos vemos allí!Exención 
 de responsabilidad:Los participantes de este evento posiblemente serán fo
 tografiados por el personal de la Biblioteca. Estas fotos posiblemente ser
 án usadas en publicaciones promocionales o educacionales. En las que se i
 ncluyen publicaciones impresas, redes sociales y presentaciones. Déjale s
 aber al personal de la Biblioteca si no das consentimiento para que te tom
 en fotos. El personal proporcionará autorizaciones fotográficas individu
 ales.En caso de inclemencias del tiempo, las actividades al aire libre se 
 podrán cancelar. Si tienes alguna pregunta o inquietud acerca de un event
 o, contacta la biblioteca antes de asistir a ellos, también puedes contac
 tar la biblioteca para obtener información actualizada.
URL:https://calendar.library.santabarbaraca.gov/es/event/biblioteca-movil-
 pilgrim-terrace-29231
END:VEVENT
END:VCALENDAR
