BEGIN:VCALENDAR
VERSION:2.0
PRODID:-//Library Market//iCal Export//EN
BEGIN:VEVENT
SUMMARY:Paw Patrol
UID:29263
DTSTAMP:20260423T182400Z
DTSTART:20260711T170000Z
DTEND:20260712T063000Z
LOCATION:Central Library, 40 East Anapamu St, Santa Barbara, CA 93101, Est
 ados Unidos
ROOM: Michael Towbes Library Plaza (Central)
DESCRIPTION:Celebrate your love of Paw Patrol with story time, themed acti
 vities, and a chance to meet community members who do the same job as your
  favorite pup. All ages welcome. Disclaimer(s):Participants in this event
  may be photographed by Library staff. These photos may be used in promoti
 onal or educational publications, including in print, social media, and pr
 esentations. Please see staff if you do not consent to having your photo t
 aken. Staff will obtain individual, signed photo releases of photographs t
 hat contain only an individual as opposed to a group.In case of inclement 
 weather, outdoor activities may be canceled. For the most up to date infor
 mation, please contact the library with any questions or concerns before t
 raveling to library events.
URL:https://calendar.library.santabarbaraca.gov/event/paw-patrol-29263
END:VEVENT
END:VCALENDAR
