BEGIN:VCALENDAR
VERSION:2.0
PRODID:-//Library Market//iCal Export//EN
BEGIN:VEVENT
SUMMARY:LOTG | State Street near the Farmers Market
UID:29215
DTSTAMP:20260422T013500Z
DTSTART:20260519T230000Z
DTEND:20260520T013000Z
LOCATION:Farmers Market, State St and Canon Perdido, Santa Barbara, CA 931
 01, United States
ROOM: In the Community
DESCRIPTION:The Library on the Go will be just outside the entrance to the
  Farmers Market on State and Canon Perdido Streets with a ton of books for
  all ages. Load up on books, get a library card, return items, or just dro
 p by to say hi!Disclaimer(s):Participants in this event may be photographe
 d by Library staff. These photos may be used in promotional or educational
  publications, including in print, social media, and presentations. Please
  see staff if you do not consent to having your photo taken. Staff will ob
 tain individual, signed photo releases of photographs that contain only an
  individual as opposed to a group.In case of inclement weather, outdoor ac
 tivities may be canceled. For the most up to date information, please cont
 act the library with any questions or concerns before traveling to library
  events.
URL:https://calendar.library.santabarbaraca.gov/event/lotg-state-street-ne
 ar-farmers-market-29215
END:VEVENT
END:VCALENDAR
