BEGIN:VCALENDAR
VERSION:2.0
PRODID:-//Library Market//iCal Export//EN
BEGIN:VEVENT
SUMMARY:LOTG | Earth Day Festival
UID:29226
DTSTAMP:20260422T101600Z
DTSTART:20260425T180000Z
DTEND:20260426T000000Z
LOCATION:Alameda Park, 1400 Santa Barbara Street, Santa Barbara, CA 93101,
  United States
ROOM: Alameda Park
DESCRIPTION:Join Library on the Go at the Santa Barbara Earth Day Festival
 ! Celebrate sustainability, community, and climate action during a lively 
 weekend filled with live music, a plant-forward food court, eco-friendly v
 endors, educational activities, non-profits, and the largest green car sho
 w on the West Coast!Stop by Library on the Go at Alameda Park for fun yard
  games, browse the Library of Things collection, discover upcoming library
  events, and explore SBPL’s digital collections.You&#039;ll find us near
  Sola Street, between Anacapa and Santa Barbara Streets—we can&#039;t wa
 it to see you there!Please visit Santa Barbara Earth Day Festival for more
  information.Disclaimer(s):Participants in this event may be photographed 
 by Library staff. These photos may be used in promotional or educational p
 ublications, including in print, social media, and presentations. Please s
 ee staff if you do not consent to having your photo taken. Staff will obta
 in individual, signed photo releases of photographs that contain only an i
 ndividual as opposed to a group.In case of inclement weather, outdoor acti
 vities may be canceled. For the most up to date information, please contac
 t the library with any questions or concerns before traveling to library e
 vents.
URL:https://calendar.library.santabarbaraca.gov/event/lotg-earth-day-festi
 val-29226
END:VEVENT
END:VCALENDAR
