BEGIN:VCALENDAR
VERSION:2.0
PRODID:-//Library Market//iCal Export//EN
BEGIN:VEVENT
SUMMARY:LOTG | Coronel Center
UID:29230
DTSTAMP:20260422T103200Z
DTSTART:20260521T213000Z
DTEND:20260521T233000Z
LOCATION:Coronel Head Start Center, 629 Coronel Place, Santa Barbara, CA 9
 3101, United States
ROOM: In the Community
DESCRIPTION:The Library on the Go will be at the Coronel Center with a ton
  of books for all ages. Load up on books, get a library card, return items
 , or just drop by to say hi!Disclaimer(s):Participants in this event may b
 e photographed by Library staff. These photos may be used in promotional o
 r educational publications, including in print, social media, and presenta
 tions. Please see staff if you do not consent to having your photo taken. 
 Staff will obtain individual, signed photo releases of photographs that co
 ntain only an individual as opposed to a group.In case of inclement weathe
 r, outdoor activities may be canceled. For the most up to date information
 , please contact the library with any questions or concerns before traveli
 ng to library events.
URL:https://calendar.library.santabarbaraca.gov/event/lotg-coronel-center-
 29230
END:VEVENT
END:VCALENDAR
