BEGIN:VCALENDAR
VERSION:2.0
PRODID:-//Library Market//iCal Export//EN
BEGIN:VEVENT
SUMMARY:LOTG | Pilgrim Terrace
UID:29231
DTSTAMP:20260422T114600Z
DTSTART:20260506T173000Z
DTEND:20260506T183000Z
LOCATION:Pilgrim Terrace, 649 Pilgrim Terrace Drive, Santa Barbara, CA 931
 01, United States
ROOM: In the Community
DESCRIPTION:The Library on the Go is coming to Pilgrim Terrace! We&#039;ll
  be stocked with a great selection of materials for adults, including larg
 e print, fiction, nonfiction, and Spanish-language books. Stop by to check
  out books, sign up for a library card, learn about library events and pro
 grams, or learn how to access the library&#039;s digital collections. We c
 an’t wait to see you!Disclaimer(s):Participants in this event may be pho
 tographed by Library staff. These photos may be used in promotional or edu
 cational publications, including in print, social media, and presentations
 . Please see staff if you do not consent to having your photo taken. Staff
  will obtain individual, signed photo releases of photographs that contain
  only an individual as opposed to a group.In case of inclement weather, ou
 tdoor activities may be canceled. For the most up to date information, ple
 ase contact the library with any questions or concerns before traveling to
  library events.
URL:https://calendar.library.santabarbaraca.gov/event/lotg-pilgrim-terrace
 -29231
END:VEVENT
END:VCALENDAR
