BEGIN:VCALENDAR
VERSION:2.0
PRODID:-//Library Market//iCal Export//EN
BEGIN:VEVENT
SUMMARY:Comic Chaos Club
UID:29254
DTSTAMP:20260423T102500Z
DTSTART:20260624T200000Z
DTEND:20260624T210000Z
LOCATION:Central Library, 40 East Anapamu St, Santa Barbara, CA 93101, Uni
 ted States
ROOM: Island Room (Central)
DESCRIPTION:Share a love of graphic novels with other school-aged kids! Ea
 ch meeting will be accompanied by an activity inspired by themes in the bo
 oks we read.Registration required. Recommended for ages 8 - 12 years old.G
 et a copy of Supa Nova by Chante Timothy and discover if Nova is able to s
 top plastic pollution with her science experiment. Then join other kids in
  talking about the book before getting to make a science experiment of you
 r own. Register for either a midday or evening session. Don&#039;t forget
  to pick up your copy after registration! Only 15 books will be available 
 for giveaway for each session. Disclaimer(s):Participants in this event m
 ay be photographed by Library staff. These photos may be used in promotion
 al or educational publications, including in print, social media, and pres
 entations. Please see staff if you do not consent to having your photo tak
 en. Staff will obtain individual, signed photo releases of photographs tha
 t contain only an individual as opposed to a group.This institution is an 
 equal opportunity provider. The Summer Food Service Program is a program o
 f the U. S. Department of Agriculture, administered in California by the C
 alifornia Department of Education. Lunch at the Library is a project of th
 e California State Library, supported with funds from the State of Califor
 nia.
URL:https://calendar.library.santabarbaraca.gov/event/comic-chaos-club-292
 54
END:VEVENT
END:VCALENDAR
