BEGIN:VCALENDAR
VERSION:2.0
PRODID:-//Library Market//iCal Export//EN
BEGIN:VEVENT
SUMMARY:Comic Chaos Club
UID:29258
DTSTAMP:20260423T085200Z
DTSTART:20260722T200000Z
DTEND:20260722T210000Z
LOCATION:Central Library, 40 East Anapamu St, Santa Barbara, CA 93101, Uni
 ted States
ROOM: Island Room (Central)
DESCRIPTION:Share a love of graphic novels with other school-aged kids! Ea
 ch meeting will be accompanied by an activity inspired by themes in the bo
 oks we read.Registration required. Recommended for ages 8 - 12 years old.G
 et a copy of Secrets of Camp Whatever  by Chris Grine and journey to a 
 mysterious island full of unexpected characters. Then join other kids in t
 alking about the book before you design your own villainous character and 
 side kick! Register for either a midday or evening session.Don&#039;t forg
 et to pick up your copy after registration! Only 15 books will be availabl
 e for giveaway for each session.  Disclaimer(s):Participants in this eve
 nt may be photographed by Library staff. These photos may be used in promo
 tional or educational publications, including in print, social media, and 
 presentations. Please see staff if you do not consent to having your photo
  taken. Staff will obtain individual, signed photo releases of photographs
  that contain only an individual as opposed to a group.This institution is
  an equal opportunity provider. The Summer Food Service Program is a progr
 am of the U. S. Department of Agriculture, administered in California by t
 he California Department of Education. Lunch at the Library is a project o
 f the California State Library, supported with funds from the State of Cal
 ifornia.
URL:https://calendar.library.santabarbaraca.gov/event/comic-chaos-club-292
 58
END:VEVENT
END:VCALENDAR
